BEGIN:VCALENDAR
VERSION:2.0
PRODID:-//Bethel Baptist of Hillsville - ECPv6.15.20//NONSGML v1.0//EN
CALSCALE:GREGORIAN
METHOD:PUBLISH
X-ORIGINAL-URL:https://bethelofhillsville.com
X-WR-CALDESC:Events for Bethel Baptist of Hillsville
REFRESH-INTERVAL;VALUE=DURATION:PT1H
X-Robots-Tag:noindex
X-PUBLISHED-TTL:PT1H
BEGIN:VTIMEZONE
TZID:America/New_York
BEGIN:DAYLIGHT
TZOFFSETFROM:-0500
TZOFFSETTO:-0400
TZNAME:EDT
DTSTART:20240310T070000
END:DAYLIGHT
BEGIN:STANDARD
TZOFFSETFROM:-0400
TZOFFSETTO:-0500
TZNAME:EST
DTSTART:20241103T060000
END:STANDARD
BEGIN:DAYLIGHT
TZOFFSETFROM:-0500
TZOFFSETTO:-0400
TZNAME:EDT
DTSTART:20250309T070000
END:DAYLIGHT
BEGIN:STANDARD
TZOFFSETFROM:-0400
TZOFFSETTO:-0500
TZNAME:EST
DTSTART:20251102T060000
END:STANDARD
BEGIN:DAYLIGHT
TZOFFSETFROM:-0500
TZOFFSETTO:-0400
TZNAME:EDT
DTSTART:20260308T070000
END:DAYLIGHT
BEGIN:STANDARD
TZOFFSETFROM:-0400
TZOFFSETTO:-0500
TZNAME:EST
DTSTART:20261101T060000
END:STANDARD
END:VTIMEZONE
BEGIN:VEVENT
DTSTART;TZID=America/New_York:20250718T180000
DTEND;TZID=America/New_York:20250718T200000
DTSTAMP:20260426T001708
CREATED:20250707T013547Z
LAST-MODIFIED:20250707T013547Z
UID:1970-1752861600-1752868800@bethelofhillsville.com
SUMMARY:Youth Night
DESCRIPTION:All-school aged children welcome | 6-8p | Free (Dinner\, Games\, and Devotional)
URL:https://bethelofhillsville.com/event/youth-night-20/
LOCATION:Bethel Baptist Church\, 15 Goodspur Rd\, Hillsville\, VA\, 24343-1938\, United States
ATTACH;FMTTYPE=image/jpeg:https://bethelofhillsville.com/wp-content/uploads/2025/07/Youth-night.jpg
END:VEVENT
END:VCALENDAR