BEGIN:VCALENDAR
VERSION:2.0
PRODID:-//Bethel Baptist of Hillsville - ECPv6.15.20//NONSGML v1.0//EN
CALSCALE:GREGORIAN
METHOD:PUBLISH
X-WR-CALNAME:Bethel Baptist of Hillsville
X-ORIGINAL-URL:https://bethelofhillsville.com
X-WR-CALDESC:Events for Bethel Baptist of Hillsville
REFRESH-INTERVAL;VALUE=DURATION:PT1H
X-Robots-Tag:noindex
X-PUBLISHED-TTL:PT1H
BEGIN:VTIMEZONE
TZID:America/New_York
BEGIN:DAYLIGHT
TZOFFSETFROM:-0500
TZOFFSETTO:-0400
TZNAME:EDT
DTSTART:20240310T070000
END:DAYLIGHT
BEGIN:STANDARD
TZOFFSETFROM:-0400
TZOFFSETTO:-0500
TZNAME:EST
DTSTART:20241103T060000
END:STANDARD
BEGIN:DAYLIGHT
TZOFFSETFROM:-0500
TZOFFSETTO:-0400
TZNAME:EDT
DTSTART:20250309T070000
END:DAYLIGHT
BEGIN:STANDARD
TZOFFSETFROM:-0400
TZOFFSETTO:-0500
TZNAME:EST
DTSTART:20251102T060000
END:STANDARD
BEGIN:DAYLIGHT
TZOFFSETFROM:-0500
TZOFFSETTO:-0400
TZNAME:EDT
DTSTART:20260308T070000
END:DAYLIGHT
BEGIN:STANDARD
TZOFFSETFROM:-0400
TZOFFSETTO:-0500
TZNAME:EST
DTSTART:20261101T060000
END:STANDARD
END:VTIMEZONE
BEGIN:VEVENT
DTSTART;TZID=America/New_York:20250728T170000
DTEND;TZID=America/New_York:20250728T180000
DTSTAMP:20260425T225128
CREATED:20241218T183754Z
LAST-MODIFIED:20250716T205654Z
UID:1742-1753722000-1753725600@bethelofhillsville.com
SUMMARY:Community Outreach
DESCRIPTION:10a | Join us for a time of canvassing our community and inviting them to church
URL:https://bethelofhillsville.com/event/community-outreach-4/
LOCATION:Bethel Baptist Church\, 15 Goodspur Rd\, Hillsville\, VA\, 24343-1938\, United States
ATTACH;FMTTYPE=image/jpeg:https://bethelofhillsville.com/wp-content/uploads/2024/12/Community-Outreach.jpg
END:VEVENT
END:VCALENDAR