BEGIN:VCALENDAR
VERSION:2.0
PRODID:-//Bethel Baptist of Hillsville - ECPv6.15.20//NONSGML v1.0//EN
CALSCALE:GREGORIAN
METHOD:PUBLISH
X-ORIGINAL-URL:https://bethelofhillsville.com
X-WR-CALDESC:Events for Bethel Baptist of Hillsville
REFRESH-INTERVAL;VALUE=DURATION:PT1H
X-Robots-Tag:noindex
X-PUBLISHED-TTL:PT1H
BEGIN:VTIMEZONE
TZID:America/New_York
BEGIN:DAYLIGHT
TZOFFSETFROM:-0500
TZOFFSETTO:-0400
TZNAME:EDT
DTSTART:20240310T070000
END:DAYLIGHT
BEGIN:STANDARD
TZOFFSETFROM:-0400
TZOFFSETTO:-0500
TZNAME:EST
DTSTART:20241103T060000
END:STANDARD
BEGIN:DAYLIGHT
TZOFFSETFROM:-0500
TZOFFSETTO:-0400
TZNAME:EDT
DTSTART:20250309T070000
END:DAYLIGHT
BEGIN:STANDARD
TZOFFSETFROM:-0400
TZOFFSETTO:-0500
TZNAME:EST
DTSTART:20251102T060000
END:STANDARD
BEGIN:DAYLIGHT
TZOFFSETFROM:-0500
TZOFFSETTO:-0400
TZNAME:EDT
DTSTART:20260308T070000
END:DAYLIGHT
BEGIN:STANDARD
TZOFFSETFROM:-0400
TZOFFSETTO:-0500
TZNAME:EST
DTSTART:20261101T060000
END:STANDARD
BEGIN:DAYLIGHT
TZOFFSETFROM:-0500
TZOFFSETTO:-0400
TZNAME:EDT
DTSTART:20270314T070000
END:DAYLIGHT
BEGIN:STANDARD
TZOFFSETFROM:-0400
TZOFFSETTO:-0500
TZNAME:EST
DTSTART:20271107T060000
END:STANDARD
END:VTIMEZONE
BEGIN:VEVENT
DTSTART;VALUE=DATE:20260419
DTEND;VALUE=DATE:20260420
DTSTAMP:20260425T110247
CREATED:20260401T014545Z
LAST-MODIFIED:20260401T014545Z
UID:2169-1776556800-1776643199@bethelofhillsville.com
SUMMARY:Volunteer Appreciation Day
DESCRIPTION:A day set aside to appreciate those who sacrifice much to serve at Bethel Baptist Church!
URL:https://bethelofhillsville.com/event/volunteer-appreciation-day/
LOCATION:Bethel Baptist Church\, 15 Goodspur Rd\, Hillsville\, VA\, 24343-1938\, United States
END:VEVENT
BEGIN:VEVENT
DTSTART;TZID=America/New_York:20260418T080000
DTEND;TZID=America/New_York:20260418T090000
DTSTAMP:20260425T110247
CREATED:20260127T014329Z
LAST-MODIFIED:20260127T014329Z
UID:2120-1776499200-1776502800@bethelofhillsville.com
SUMMARY:Betterman Men's Meeting
DESCRIPTION:A community of men passionately pursuing biblical manhood \nSpring & Fall Semesters | Saturdays at 8am
URL:https://bethelofhillsville.com/event/betterman-mens-meeting-12/
LOCATION:Bethel Baptist Church\, 15 Goodspur Rd\, Hillsville\, VA\, 24343-1938\, United States
ATTACH;FMTTYPE=image/jpeg:https://bethelofhillsville.com/wp-content/uploads/2026/01/Slide_Betterman.jpg
END:VEVENT
BEGIN:VEVENT
DTSTART;TZID=America/New_York:20260417T180000
DTEND;TZID=America/New_York:20260417T200000
DTSTAMP:20260425T110247
CREATED:20260401T014455Z
LAST-MODIFIED:20260401T014455Z
UID:2167-1776448800-1776456000@bethelofhillsville.com
SUMMARY:Faith Forward
DESCRIPTION:All school-aged children invited to attend | 6–8p | Free meal\, games\, worship\, and devotional
URL:https://bethelofhillsville.com/event/faith-forward-2/
LOCATION:Bethel Baptist Church\, 15 Goodspur Rd\, Hillsville\, VA\, 24343-1938\, United States
ATTACH;FMTTYPE=image/jpeg:https://bethelofhillsville.com/wp-content/uploads/2026/01/Slide_FaithForward-1.jpg
END:VEVENT
BEGIN:VEVENT
DTSTART;TZID=America/New_York:20260411T090000
DTEND;TZID=America/New_York:20260411T120000
DTSTAMP:20260425T110247
CREATED:20260127T015213Z
LAST-MODIFIED:20260401T014306Z
UID:2146-1775898000-1775908800@bethelofhillsville.com
SUMMARY:Ladies Conference @ Flat Ridge Baptist Church
DESCRIPTION:Registration | 8:30a \nConference | 9a–12p \nLunch provided afterwards | Donations accepted
URL:https://bethelofhillsville.com/event/ladies-bible-study-3/
LOCATION:VA
ATTACH;FMTTYPE=image/jpeg:https://bethelofhillsville.com/wp-content/uploads/2026/01/Slide_LadiesBibleStudy-1.jpg
END:VEVENT
BEGIN:VEVENT
DTSTART;TZID=America/New_York:20260405T103000
DTEND;TZID=America/New_York:20260405T120000
DTSTAMP:20260425T110247
CREATED:20260127T014746Z
LAST-MODIFIED:20260127T014746Z
UID:2136-1775385000-1775390400@bethelofhillsville.com
SUMMARY:Easter at Bethel
DESCRIPTION:Easter Morning | 10:30a
URL:https://bethelofhillsville.com/event/easter-at-bethel/
LOCATION:Bethel Baptist Church\, 15 Goodspur Rd\, Hillsville\, VA\, 24343-1938\, United States
ATTACH;FMTTYPE=image/jpeg:https://bethelofhillsville.com/wp-content/uploads/2026/01/Slide_Easter-1.jpg
END:VEVENT
BEGIN:VEVENT
DTSTART;TZID=America/New_York:20260404T080000
DTEND;TZID=America/New_York:20260404T090000
DTSTAMP:20260425T110247
CREATED:20260127T014239Z
LAST-MODIFIED:20260127T014239Z
UID:2116-1775289600-1775293200@bethelofhillsville.com
SUMMARY:Betterman Men's Meeting
DESCRIPTION:A community of men passionately pursuing biblical manhood \nSpring & Fall Semesters | Saturdays at 8am
URL:https://bethelofhillsville.com/event/betterman-mens-meeting-10/
LOCATION:Bethel Baptist Church\, 15 Goodspur Rd\, Hillsville\, VA\, 24343-1938\, United States
ATTACH;FMTTYPE=image/jpeg:https://bethelofhillsville.com/wp-content/uploads/2026/01/Slide_Betterman.jpg
END:VEVENT
BEGIN:VEVENT
DTSTART;TZID=America/New_York:20260403T170000
DTEND;TZID=America/New_York:20260403T180000
DTSTAMP:20260425T110247
CREATED:20260127T014627Z
LAST-MODIFIED:20260127T014627Z
UID:2122-1775235600-1775239200@bethelofhillsville.com
SUMMARY:Easter at the Park
DESCRIPTION:Join us for an evening of an Easter egg hunt\, live music\, and a message from Pastor John at the Carroll County Recreational Park \nApril 3 | 5pm | 129 Ballpark Dr. Hillsville\, VA
URL:https://bethelofhillsville.com/event/easter-at-the-park/
LOCATION:Carroll County Recreational Park\, 129 Ballpark Dr\, Hillsville\, VA
ATTACH;FMTTYPE=image/jpeg:https://bethelofhillsville.com/wp-content/uploads/2026/01/Slide_EasteratthePark-1.jpg
END:VEVENT
BEGIN:VEVENT
DTSTART;TZID=America/New_York:20260328T080000
DTEND;TZID=America/New_York:20260328T090000
DTSTAMP:20260425T110247
CREATED:20260401T014348Z
LAST-MODIFIED:20260401T014348Z
UID:2164-1774684800-1774688400@bethelofhillsville.com
SUMMARY:Betterman Men's Meeting
DESCRIPTION:A community of men passionately pursuing biblical manhood \nSpring & Fall Semesters | Saturdays at 8am
URL:https://bethelofhillsville.com/event/betterman-mens-meeting-11/
LOCATION:Bethel Baptist Church\, 15 Goodspur Rd\, Hillsville\, VA\, 24343-1938\, United States
ATTACH;FMTTYPE=image/jpeg:https://bethelofhillsville.com/wp-content/uploads/2026/01/Slide_Betterman.jpg
END:VEVENT
BEGIN:VEVENT
DTSTART;TZID=America/New_York:20260328T080000
DTEND;TZID=America/New_York:20260328T090000
DTSTAMP:20260425T110247
CREATED:20260127T014212Z
LAST-MODIFIED:20260127T014212Z
UID:2114-1774684800-1774688400@bethelofhillsville.com
SUMMARY:Betterman Men's Meeting
DESCRIPTION:A community of men passionately pursuing biblical manhood \nSpring & Fall Semesters | Saturdays at 8am
URL:https://bethelofhillsville.com/event/betterman-mens-meeting-9/
LOCATION:Bethel Baptist Church\, 15 Goodspur Rd\, Hillsville\, VA\, 24343-1938\, United States
ATTACH;FMTTYPE=image/jpeg:https://bethelofhillsville.com/wp-content/uploads/2026/01/Slide_Betterman.jpg
END:VEVENT
BEGIN:VEVENT
DTSTART;TZID=America/New_York:20260321T080000
DTEND;TZID=America/New_York:20260321T090000
DTSTAMP:20260425T110247
CREATED:20260127T014146Z
LAST-MODIFIED:20260127T014146Z
UID:2112-1774080000-1774083600@bethelofhillsville.com
SUMMARY:Betterman Men's Meeting
DESCRIPTION:A community of men passionately pursuing biblical manhood \nSpring & Fall Semesters | Saturdays at 8am
URL:https://bethelofhillsville.com/event/betterman-mens-meeting-8/
LOCATION:Bethel Baptist Church\, 15 Goodspur Rd\, Hillsville\, VA\, 24343-1938\, United States
ATTACH;FMTTYPE=image/jpeg:https://bethelofhillsville.com/wp-content/uploads/2026/01/Slide_Betterman.jpg
END:VEVENT
BEGIN:VEVENT
DTSTART;TZID=America/New_York:20260314T100000
DTEND;TZID=America/New_York:20260314T110000
DTSTAMP:20260425T110247
CREATED:20260127T015145Z
LAST-MODIFIED:20260127T015145Z
UID:2144-1773482400-1773486000@bethelofhillsville.com
SUMMARY:Ladies Bible Study
DESCRIPTION:Community\, Bible study\, and snacks \nBring a snack to share if you would like! \nCurrent study is Vitamins of the Soul by Kathy Ashley. \n2nd Saturdays\, 10a
URL:https://bethelofhillsville.com/event/ladies-bible-study-2/
LOCATION:Bethel Baptist Church\, 15 Goodspur Rd\, Hillsville\, VA\, 24343-1938\, United States
ATTACH;FMTTYPE=image/jpeg:https://bethelofhillsville.com/wp-content/uploads/2026/01/Slide_LadiesBibleStudy-1.jpg
END:VEVENT
BEGIN:VEVENT
DTSTART;TZID=America/New_York:20260314T080000
DTEND;TZID=America/New_York:20260314T090000
DTSTAMP:20260425T110247
CREATED:20260127T014112Z
LAST-MODIFIED:20260127T014112Z
UID:2110-1773475200-1773478800@bethelofhillsville.com
SUMMARY:Betterman Men's Meeting
DESCRIPTION:A community of men passionately pursuing biblical manhood \nSpring & Fall Semesters | Saturdays at 8am
URL:https://bethelofhillsville.com/event/betterman-mens-meeting-7/
LOCATION:Bethel Baptist Church\, 15 Goodspur Rd\, Hillsville\, VA\, 24343-1938\, United States
ATTACH;FMTTYPE=image/jpeg:https://bethelofhillsville.com/wp-content/uploads/2026/01/Slide_Betterman.jpg
END:VEVENT
BEGIN:VEVENT
DTSTART;TZID=America/New_York:20260311T190000
DTEND;TZID=America/New_York:20260313T200000
DTSTAMP:20260425T110247
CREATED:20260127T014955Z
LAST-MODIFIED:20260127T014955Z
UID:2140-1773255600-1773432000@bethelofhillsville.com
SUMMARY:Spring Revival
DESCRIPTION:Guest Speaker—Travis Kiriluk \nNightly\, March 11–13\, starting at 7pm
URL:https://bethelofhillsville.com/event/spring-revival-2/
LOCATION:Bethel Baptist Church\, 15 Goodspur Rd\, Hillsville\, VA\, 24343-1938\, United States
ATTACH;FMTTYPE=image/jpeg:https://bethelofhillsville.com/wp-content/uploads/2026/01/Slide_Spring-Revival-1.jpg
END:VEVENT
BEGIN:VEVENT
DTSTART;TZID=America/New_York:20260307T080000
DTEND;TZID=America/New_York:20260307T090000
DTSTAMP:20260425T110247
CREATED:20260127T014046Z
LAST-MODIFIED:20260127T014046Z
UID:2108-1772870400-1772874000@bethelofhillsville.com
SUMMARY:Betterman Men's Meeting
DESCRIPTION:A community of men passionately pursuing biblical manhood \nSpring & Fall Semesters | Saturdays at 8am
URL:https://bethelofhillsville.com/event/betterman-mens-meeting-6/
LOCATION:Bethel Baptist Church\, 15 Goodspur Rd\, Hillsville\, VA\, 24343-1938\, United States
ATTACH;FMTTYPE=image/jpeg:https://bethelofhillsville.com/wp-content/uploads/2026/01/Slide_Betterman.jpg
END:VEVENT
BEGIN:VEVENT
DTSTART;TZID=America/New_York:20260228T080000
DTEND;TZID=America/New_York:20260228T090000
DTSTAMP:20260425T110247
CREATED:20260127T013948Z
LAST-MODIFIED:20260127T014011Z
UID:2106-1772265600-1772269200@bethelofhillsville.com
SUMMARY:Betterman Men's Meeting
DESCRIPTION:A community of men passionately pursuing biblical manhood \nSpring & Fall Semesters | Saturdays at 8am
URL:https://bethelofhillsville.com/event/betterman-mens-meeting-5/
LOCATION:Bethel Baptist Church\, 15 Goodspur Rd\, Hillsville\, VA\, 24343-1938\, United States
ATTACH;FMTTYPE=image/jpeg:https://bethelofhillsville.com/wp-content/uploads/2026/01/Slide_Betterman.jpg
END:VEVENT
BEGIN:VEVENT
DTSTART;TZID=America/New_York:20260221T080000
DTEND;TZID=America/New_York:20260221T090000
DTSTAMP:20260425T110247
CREATED:20260127T013906Z
LAST-MODIFIED:20260127T013906Z
UID:2104-1771660800-1771664400@bethelofhillsville.com
SUMMARY:Betterman Men's Meeting
DESCRIPTION:A community of men passionately pursuing biblical manhood \nSpring & Fall Semesters | Saturdays at 8am
URL:https://bethelofhillsville.com/event/betterman-mens-meeting-4/
LOCATION:Bethel Baptist Church\, 15 Goodspur Rd\, Hillsville\, VA\, 24343-1938\, United States
ATTACH;FMTTYPE=image/jpeg:https://bethelofhillsville.com/wp-content/uploads/2026/01/Slide_Betterman.jpg
END:VEVENT
BEGIN:VEVENT
DTSTART;TZID=America/New_York:20260220T180000
DTEND;TZID=America/New_York:20260220T200000
DTSTAMP:20260425T110247
CREATED:20260127T014857Z
LAST-MODIFIED:20260127T014857Z
UID:2138-1771610400-1771617600@bethelofhillsville.com
SUMMARY:Faith Forward
DESCRIPTION:An evening of games\, a meal\, music\, and a message \nOpen to 1st–12th grade students | 6–8p \n 
URL:https://bethelofhillsville.com/event/faith-forward/
LOCATION:Bethel Baptist Church\, 15 Goodspur Rd\, Hillsville\, VA\, 24343-1938\, United States
ATTACH;FMTTYPE=image/jpeg:https://bethelofhillsville.com/wp-content/uploads/2026/01/Slide_FaithForward-1.jpg
END:VEVENT
BEGIN:VEVENT
DTSTART;TZID=America/New_York:20260214T100000
DTEND;TZID=America/New_York:20260214T110000
DTSTAMP:20260425T110247
CREATED:20260127T015116Z
LAST-MODIFIED:20260127T015116Z
UID:2142-1771063200-1771066800@bethelofhillsville.com
SUMMARY:Ladies Bible Study
DESCRIPTION:Community\, Bible study\, and snacks \nBring a snack to share if you would like! \nCurrent study is Vitamins of the Soul by Kathy Ashley. \n2nd Saturdays\, 10a
URL:https://bethelofhillsville.com/event/ladies-bible-study/
LOCATION:Bethel Baptist Church\, 15 Goodspur Rd\, Hillsville\, VA\, 24343-1938\, United States
ATTACH;FMTTYPE=image/jpeg:https://bethelofhillsville.com/wp-content/uploads/2026/01/Slide_LadiesBibleStudy-1.jpg
END:VEVENT
BEGIN:VEVENT
DTSTART;TZID=America/New_York:20260214T080000
DTEND;TZID=America/New_York:20260214T090000
DTSTAMP:20260425T110247
CREATED:20260127T013830Z
LAST-MODIFIED:20260127T013830Z
UID:2102-1771056000-1771059600@bethelofhillsville.com
SUMMARY:Betterman Men's Meeting
DESCRIPTION:A community of men passionately pursuing biblical manhood \nSpring & Fall Semesters | Saturdays at 8am
URL:https://bethelofhillsville.com/event/betterman-mens-meeting-3/
LOCATION:Bethel Baptist Church\, 15 Goodspur Rd\, Hillsville\, VA\, 24343-1938\, United States
ATTACH;FMTTYPE=image/jpeg:https://bethelofhillsville.com/wp-content/uploads/2026/01/Slide_Betterman.jpg
END:VEVENT
BEGIN:VEVENT
DTSTART;TZID=America/New_York:20260207T080000
DTEND;TZID=America/New_York:20260207T090000
DTSTAMP:20260425T110247
CREATED:20260127T013803Z
LAST-MODIFIED:20260127T013803Z
UID:2100-1770451200-1770454800@bethelofhillsville.com
SUMMARY:Betterman Men's Meeting
DESCRIPTION:A community of men passionately pursuing biblical manhood \nSpring & Fall Semesters | Saturdays at 8am
URL:https://bethelofhillsville.com/event/betterman-mens-meeting-2/
LOCATION:Bethel Baptist Church\, 15 Goodspur Rd\, Hillsville\, VA\, 24343-1938\, United States
ATTACH;FMTTYPE=image/jpeg:https://bethelofhillsville.com/wp-content/uploads/2026/01/Slide_Betterman.jpg
END:VEVENT
BEGIN:VEVENT
DTSTART;TZID=America/New_York:20260131T080000
DTEND;TZID=America/New_York:20260131T090000
DTSTAMP:20260425T110247
CREATED:20260127T013708Z
LAST-MODIFIED:20260127T013708Z
UID:2097-1769846400-1769850000@bethelofhillsville.com
SUMMARY:Betterman Men's Meeting
DESCRIPTION:A community of men passionately pursuing biblical manhood \nSpring & Fall Semesters | Saturdays at 8am
URL:https://bethelofhillsville.com/event/betterman-mens-meeting/
LOCATION:Bethel Baptist Church\, 15 Goodspur Rd\, Hillsville\, VA\, 24343-1938\, United States
ATTACH;FMTTYPE=image/jpeg:https://bethelofhillsville.com/wp-content/uploads/2026/01/Slide_Betterman.jpg
END:VEVENT
BEGIN:VEVENT
DTSTART;TZID=America/New_York:20251224T170000
DTEND;TZID=America/New_York:20251224T180000
DTSTAMP:20260425T110247
CREATED:20251201T015545Z
LAST-MODIFIED:20251201T015545Z
UID:2075-1766595600-1766599200@bethelofhillsville.com
SUMMARY:Christmas Eve Service
DESCRIPTION:Christmas Eve Service | 5p
URL:https://bethelofhillsville.com/event/christmas-eve-service-2/
LOCATION:Bethel Baptist Church\, 15 Goodspur Rd\, Hillsville\, VA\, 24343-1938\, United States
ATTACH;FMTTYPE=image/jpeg:https://bethelofhillsville.com/wp-content/uploads/2025/11/DECEMBER-24-5p.jpg
END:VEVENT
BEGIN:VEVENT
DTSTART;TZID=America/New_York:20251214T103000
DTEND;TZID=America/New_York:20251214T120000
DTSTAMP:20260425T110247
CREATED:20251201T015507Z
LAST-MODIFIED:20251201T015507Z
UID:2071-1765708200-1765713600@bethelofhillsville.com
SUMMARY:Christmas at Bethel
DESCRIPTION:10a | Family Service | Lunch to Follow | No evening service
URL:https://bethelofhillsville.com/event/christmas-at-bethel/
LOCATION:Bethel Baptist Church\, 15 Goodspur Rd\, Hillsville\, VA\, 24343-1938\, United States
ATTACH;FMTTYPE=image/jpeg:https://bethelofhillsville.com/wp-content/uploads/2025/11/Christmas-at-Bethel-2025.jpg
END:VEVENT
BEGIN:VEVENT
DTSTART;TZID=America/New_York:20251213T100000
DTEND;TZID=America/New_York:20251213T113000
DTSTAMP:20260425T110247
CREATED:20251201T015411Z
LAST-MODIFIED:20251201T015411Z
UID:2068-1765620000-1765625400@bethelofhillsville.com
SUMMARY:Ladies Meeting
DESCRIPTION:Fellowship Hall | 10a | bring a snack to share
URL:https://bethelofhillsville.com/event/ladies-meeting-12/
LOCATION:Bethel Baptist Church\, 15 Goodspur Rd\, Hillsville\, VA\, 24343-1938\, United States
ATTACH;FMTTYPE=image/jpeg:https://bethelofhillsville.com/wp-content/uploads/2025/11/Ladies-Meeting.jpg
END:VEVENT
BEGIN:VEVENT
DTSTART;TZID=America/New_York:20251206T080000
DTEND;TZID=America/New_York:20251206T090000
DTSTAMP:20260425T110247
CREATED:20251201T015313Z
LAST-MODIFIED:20251201T015313Z
UID:2066-1765008000-1765011600@bethelofhillsville.com
SUMMARY:Betterman
DESCRIPTION:Fellowship Hall | 8am
URL:https://bethelofhillsville.com/event/betterman-12/
LOCATION:Bethel Baptist Church\, 15 Goodspur Rd\, Hillsville\, VA\, 24343-1938\, United States
ATTACH;FMTTYPE=image/jpeg:https://bethelofhillsville.com/wp-content/uploads/2025/01/BethelMen_Betterman.jpg
END:VEVENT
BEGIN:VEVENT
DTSTART;TZID=America/New_York:20251108T100000
DTEND;TZID=America/New_York:20251108T120000
DTSTAMP:20260425T110247
CREATED:20241218T182054Z
LAST-MODIFIED:20241218T182054Z
UID:1694-1762596000-1762603200@bethelofhillsville.com
SUMMARY:Ladies Meeting
DESCRIPTION:10a | Fellowship hall
URL:https://bethelofhillsville.com/event/ladies-meeting-10/
LOCATION:Bethel Baptist Church\, 15 Goodspur Rd\, Hillsville\, VA\, 24343-1938\, United States
ATTACH;FMTTYPE=image/jpeg:https://bethelofhillsville.com/wp-content/uploads/2024/12/November_LadiesMeeting.jpg
END:VEVENT
BEGIN:VEVENT
DTSTART;TZID=America/New_York:20251101T080000
DTEND;TZID=America/New_York:20251101T100000
DTSTAMP:20260425T110247
CREATED:20250114T195754Z
LAST-MODIFIED:20250114T195754Z
UID:1779-1761984000-1761991200@bethelofhillsville.com
SUMMARY:Betterman
DESCRIPTION:Fellowship Hall | 8AM
URL:https://bethelofhillsville.com/event/betterman-10/
LOCATION:Bethel Baptist Church\, 15 Goodspur Rd\, Hillsville\, VA\, 24343-1938\, United States
ATTACH;FMTTYPE=image/jpeg:https://bethelofhillsville.com/wp-content/uploads/2025/01/BethelMen_Betterman.jpg
END:VEVENT
BEGIN:VEVENT
DTSTART;TZID=America/New_York:20251024T180000
DTEND;TZID=America/New_York:20251024T200000
DTSTAMP:20260425T110247
CREATED:20251001T125110Z
LAST-MODIFIED:20251001T125110Z
UID:2037-1761328800-1761336000@bethelofhillsville.com
SUMMARY:Youth Night
DESCRIPTION:Free | 6–8p | Bonfire\, Food\, Worship\, Devo \nSchool aged children invited to attend
URL:https://bethelofhillsville.com/event/youth-night-22/
LOCATION:Bethel Baptist Church\, 15 Goodspur Rd\, Hillsville\, VA\, 24343-1938\, United States
ATTACH;FMTTYPE=image/jpeg:https://bethelofhillsville.com/wp-content/uploads/2025/10/Youth-night.jpg
END:VEVENT
BEGIN:VEVENT
DTSTART;TZID=America/New_York:20251012T103000
DTEND;TZID=America/New_York:20251012T120000
DTSTAMP:20260425T110247
CREATED:20250924T200106Z
LAST-MODIFIED:20250924T200106Z
UID:2033-1760265000-1760270400@bethelofhillsville.com
SUMMARY:Pastor Appreciation Potluck Fellowship
DESCRIPTION:After Sunday morning service | Bring a dish or two to share
URL:https://bethelofhillsville.com/event/pastor-appreciation-potluck-fellowship/
LOCATION:Bethel Baptist Church\, 15 Goodspur Rd\, Hillsville\, VA\, 24343-1938\, United States
ATTACH;FMTTYPE=image/jpeg:https://bethelofhillsville.com/wp-content/uploads/2025/09/Pastor.jpg
END:VEVENT
BEGIN:VEVENT
DTSTART;TZID=America/New_York:20251012T103000
DTEND;TZID=America/New_York:20251012T120000
DTSTAMP:20260425T110247
CREATED:20250905T011131Z
LAST-MODIFIED:20250905T011131Z
UID:2016-1760265000-1760270400@bethelofhillsville.com
SUMMARY:Serve Sunday
DESCRIPTION:
URL:https://bethelofhillsville.com/event/serve-sunday/
LOCATION:Bethel Baptist Church\, 15 Goodspur Rd\, Hillsville\, VA\, 24343-1938\, United States
ATTACH;FMTTYPE=image/jpeg:https://bethelofhillsville.com/wp-content/uploads/2025/09/Serve-Sunday-1.jpg
END:VEVENT
END:VCALENDAR