BEGIN:VCALENDAR
VERSION:2.0
PRODID:-//Bethel Baptist of Hillsville - ECPv6.15.20//NONSGML v1.0//EN
CALSCALE:GREGORIAN
METHOD:PUBLISH
X-ORIGINAL-URL:https://bethelofhillsville.com
X-WR-CALDESC:Events for Bethel Baptist of Hillsville
REFRESH-INTERVAL;VALUE=DURATION:PT1H
X-Robots-Tag:noindex
X-PUBLISHED-TTL:PT1H
BEGIN:VTIMEZONE
TZID:America/New_York
BEGIN:DAYLIGHT
TZOFFSETFROM:-0500
TZOFFSETTO:-0400
TZNAME:EDT
DTSTART:20240310T070000
END:DAYLIGHT
BEGIN:STANDARD
TZOFFSETFROM:-0400
TZOFFSETTO:-0500
TZNAME:EST
DTSTART:20241103T060000
END:STANDARD
BEGIN:DAYLIGHT
TZOFFSETFROM:-0500
TZOFFSETTO:-0400
TZNAME:EDT
DTSTART:20250309T070000
END:DAYLIGHT
BEGIN:STANDARD
TZOFFSETFROM:-0400
TZOFFSETTO:-0500
TZNAME:EST
DTSTART:20251102T060000
END:STANDARD
BEGIN:DAYLIGHT
TZOFFSETFROM:-0500
TZOFFSETTO:-0400
TZNAME:EDT
DTSTART:20260308T070000
END:DAYLIGHT
BEGIN:STANDARD
TZOFFSETFROM:-0400
TZOFFSETTO:-0500
TZNAME:EST
DTSTART:20261101T060000
END:STANDARD
END:VTIMEZONE
BEGIN:VEVENT
DTSTART;TZID=America/New_York:20250906T080000
DTEND;TZID=America/New_York:20250906T100000
DTSTAMP:20260425T201753
CREATED:20250114T195657Z
LAST-MODIFIED:20250114T195657Z
UID:1775-1757145600-1757152800@bethelofhillsville.com
SUMMARY:Betterman
DESCRIPTION:Fellowship Hall | 8AM
URL:https://bethelofhillsville.com/event/betterman-8/
LOCATION:Bethel Baptist Church\, 15 Goodspur Rd\, Hillsville\, VA\, 24343-1938\, United States
ATTACH;FMTTYPE=image/jpeg:https://bethelofhillsville.com/wp-content/uploads/2025/01/BethelMen_Betterman.jpg
END:VEVENT
BEGIN:VEVENT
DTSTART;TZID=America/New_York:20250910T174500
DTEND;TZID=America/New_York:20250910T200000
DTSTAMP:20260425T201753
CREATED:20250905T010614Z
LAST-MODIFIED:20250905T010614Z
UID:2009-1757526300-1757534400@bethelofhillsville.com
SUMMARY:Wonderful Wednesday—Nathaniel Hobbs
DESCRIPTION:Free Dinner 5:45p | Prayer 6:30p | Service 7p
URL:https://bethelofhillsville.com/event/wonderful-wednesday-nathaniel-hobbs/
LOCATION:Bethel Baptist Church\, 15 Goodspur Rd\, Hillsville\, VA\, 24343-1938\, United States
ATTACH;FMTTYPE=image/jpeg:https://bethelofhillsville.com/wp-content/uploads/2025/09/Wonderful-Wednesday—FB-Event-Cover.jpg
END:VEVENT
BEGIN:VEVENT
DTSTART;TZID=America/New_York:20250913T100000
DTEND;TZID=America/New_York:20250913T120000
DTSTAMP:20260425T201753
CREATED:20241218T181831Z
LAST-MODIFIED:20250826T171506Z
UID:1688-1757757600-1757764800@bethelofhillsville.com
SUMMARY:Ladies Meeting
DESCRIPTION:10a | Fellowship hall
URL:https://bethelofhillsville.com/event/ladies-meeting-8/
LOCATION:Bethel Baptist Church\, 15 Goodspur Rd\, Hillsville\, VA\, 24343-1938\, United States
ATTACH;FMTTYPE=image/jpeg:https://bethelofhillsville.com/wp-content/uploads/2024/12/Ladies-Meeting-1.jpg
END:VEVENT
BEGIN:VEVENT
DTSTART;TZID=America/New_York:20250917T174500
DTEND;TZID=America/New_York:20250917T200000
DTSTAMP:20260425T201753
CREATED:20250905T010723Z
LAST-MODIFIED:20250905T010723Z
UID:2012-1758131100-1758139200@bethelofhillsville.com
SUMMARY:Wonderful Wednesday—Levi Smith
DESCRIPTION:Free Dinner 5:45p | Prayer 6:30p | Service 7p
URL:https://bethelofhillsville.com/event/wonderful-wednesday-levi-smith/
LOCATION:Bethel Baptist Church\, 15 Goodspur Rd\, Hillsville\, VA\, 24343-1938\, United States
ATTACH;FMTTYPE=image/jpeg:https://bethelofhillsville.com/wp-content/uploads/2025/09/Wonderful-Wednesday—FB-Event-Cover.jpg
END:VEVENT
BEGIN:VEVENT
DTSTART;TZID=America/New_York:20250919T190000
DTEND;TZID=America/New_York:20250919T203000
DTSTAMP:20260425T201753
CREATED:20250906T023505Z
LAST-MODIFIED:20250906T023505Z
UID:2023-1758308400-1758313800@bethelofhillsville.com
SUMMARY:Movie Night
DESCRIPTION:7–8:30p | Pizza. Popcorn. Movie. \nAll free. Family event.
URL:https://bethelofhillsville.com/event/movie-night/
LOCATION:Bethel Baptist Church\, 15 Goodspur Rd\, Hillsville\, VA\, 24343-1938\, United States
ATTACH;FMTTYPE=image/jpeg:https://bethelofhillsville.com/wp-content/uploads/2025/09/Youth-night.jpg
END:VEVENT
BEGIN:VEVENT
DTSTART;TZID=America/New_York:20250921T103000
DTEND;TZID=America/New_York:20250921T120000
DTSTAMP:20260425T201753
CREATED:20250905T012841Z
LAST-MODIFIED:20250905T012841Z
UID:2020-1758450600-1758456000@bethelofhillsville.com
SUMMARY:Celebration Sunday
DESCRIPTION:
URL:https://bethelofhillsville.com/event/celebration-sunday-2/
LOCATION:Bethel Baptist Church\, 15 Goodspur Rd\, Hillsville\, VA\, 24343-1938\, United States
ATTACH;FMTTYPE=image/jpeg:https://bethelofhillsville.com/wp-content/uploads/2025/09/CELEBRATION.jpg
END:VEVENT
BEGIN:VEVENT
DTSTART;TZID=America/New_York:20250924T174500
DTEND;TZID=America/New_York:20250924T200000
DTSTAMP:20260425T201753
CREATED:20250905T010917Z
LAST-MODIFIED:20250905T010917Z
UID:2014-1758735900-1758744000@bethelofhillsville.com
SUMMARY:Wonderful Wednesday—David Medley
DESCRIPTION:Free Dinner 5:45p | Prayer 6:30p | Service 7p
URL:https://bethelofhillsville.com/event/wonderful-wednesday-david-medley/
LOCATION:Bethel Baptist Church\, 15 Goodspur Rd\, Hillsville\, VA\, 24343-1938\, United States
ATTACH;FMTTYPE=image/jpeg:https://bethelofhillsville.com/wp-content/uploads/2025/09/Wonderful-Wednesday—FB-Event-Cover.jpg
END:VEVENT
END:VCALENDAR